BEGIN:VCALENDAR
VERSION:2.0
PRODID:-//eventon.com NONSGML v1.0//EN
CALSCALE:GREGORIAN
METHOD:PUBLISH
BEGIN:VEVENT
UID:69e8547a71961
DTSTAMP:20260422T045418Z
DTSTART:20210527T170000Z
DTEND:20210527T183000Z
LOCATION:
SUMMARY:CsÃ¡nyi SÃ¡ndor szÃ­nhÃ¡zi estje | Hogyan Ã©rtsÃ¼k fÃ©lre a nÅ‘ket?
DESCRIPTION:AÂ 2020.11.05-Ã©n elmaradt CsÃ¡nyi SÃ¡ndor &#8211; Hogyan Ã©rts
 Ã¼k fÃ©lre a nÅ‘ket? c. elÅ‘adÃ¡sÃ¡nak a pÃ³tlÃ¡saÂ 2021.05.27. 19.00Â Ã³ra
 kor kerÃ¼l megrendezÃ©sre. A megvÃ¡sÃ¡rolt jegyek automatikusan Ã©rvÃ©nyese
 k az Ãºj idÅ‘pontra vagy visszavÃ¡lthatÃ³kÂ 2021.05.16. 23:59-ig. A MOMkult
  belsÅ‘ tereibe az oltÃ¡ssal nem rendelkezÅ‘k vÃ©delmÃ©ben &#8211; Ã©letkor
 tÃ³l fÃ¼ggetlenÃ¼l &#8211; kizÃ¡rÃ³lag sajÃ¡t nevÃ©re szÃ³lÃ³ Ã©rvÃ©nyes vÃ
 ©dettsÃ©gi igazolvÃ¡nnyal lehet belÃ©pni[..]\nhttps://momkult.hu/events/csa
 nyi-sandor-szinhazi-estje-hogyan-ertsuk-felre-a-noket-39/
URL:https://momkult.hu/events/csanyi-sandor-szinhazi-estje-hogyan-ertsuk-felre-a-noket-39/
END:VEVENT
END:VCALENDAR