BEGIN:VCALENDAR
VERSION:2.0
PRODID:-//eventon.com NONSGML v1.0//EN
CALSCALE:GREGORIAN
METHOD:PUBLISH
BEGIN:VEVENT
UID:69e7be7b4ea79
DTSTAMP:20260421T181419Z
DTSTART:20211222T180000Z
DTEND:20211222T200000Z
LOCATION:
SUMMARY:Imagine - Fenegyerekek\,  akik megvÃ¡ltoztattÃ¡k a vilÃ¡got
DESCRIPTION:FelhÃ­vjuk lÃ¡togatÃ³ink szÃ­ves figyelmÃ©t\,  hogy a MOMkult Ã
 ©pÃ¼letÃ©ben a maszkviselÃ©s kÃ¶telezÅ‘! Az elÅ‘adÃ¡s Ãºj idÅ‘pontban\,  20
 21. 12. 22-Ã©n kerÃ¼l megrendezÃ©sre. (eredeti idÅ‘pont: 2021. 05. 09.\,  p
 Ã³telÅ‘adÃ¡s: 2021. 12.22.) ZSIMÃœ kÃ¶zlemÃ©nye: Tisztelt KÃ¶zÃ¶nsÃ©gÃ¼nk\,
   BarÃ¡taink! Az Imagine | Fenegyerekek\,  akik megvÃ¡ltoztattÃ¡k a vilÃ¡go
 t! cÃ­mÅ± Horgas Eszter koncertÃ¼nk Ãºj idÅ‘pontja 2021. december 22.[..]\n
 https://momkult.hu/events/imagine-fenegyerekek-akik-megvaltoztattak-a-vilag
 ot-2/
URL:https://momkult.hu/events/imagine-fenegyerekek-akik-megvaltoztattak-a-vilagot-2/
END:VEVENT
END:VCALENDAR