BEGIN:VCALENDAR
VERSION:2.0
PRODID:-//eventon.com NONSGML v1.0//EN
CALSCALE:GREGORIAN
METHOD:PUBLISH
BEGIN:VEVENT
UID:69e7d22e22669
DTSTAMP:20260421T193822Z
DTSTART:20211210T180000Z
DTEND:20211210T200000Z
LOCATION:
SUMMARY:NOXTALGIA UNPLUGGED | PÃ©ter SzabÃ³ Szilvia
DESCRIPTION:FelhÃ­vjuk lÃ¡togatÃ³ink szÃ­ves figyelmÃ©t\,  hogy a MOMkult Ã
 ©pÃ¼letÃ©ben a maszkviselÃ©s kÃ¶telezÅ‘! Az elÅ‘adÃ¡s Ãºj idÅ‘pontban\,  20
 21. 12. 10-Ã©n kerÃ¼l megrendezÃ©sre. (eredeti idÅ‘pont: 2021. 05. 08.\, Â 
  Â Ãºj idÅ‘pont: 2021.12.10.) Kedves JegyvÃ¡sÃ¡rlÃ³ink! A mÃ¡jus 08-i 19.00
 - kor kezdÅ‘dÅ‘ NOXTALGIA UNPLUGGED | PÃ©ter SzabÃ³ Szilvia koncert a jÃ¡rv
 Ã¡nyhelyzet miatt Ãºj idÅ‘pontban kerÃ¼l megrendezÃ©sre![..]\nhttps://momku
 lt.hu/events/noxtalgia-unplugged-peter-szabo-szilvia-3/
URL:https://momkult.hu/events/noxtalgia-unplugged-peter-szabo-szilvia-3/
END:VEVENT
END:VCALENDAR