BEGIN:VCALENDAR
VERSION:2.0
PRODID:-//eventon.com NONSGML v1.0//EN
CALSCALE:GREGORIAN
METHOD:PUBLISH
BEGIN:VEVENT
UID:69ebb230cb23b
DTSTAMP:20260424T181056Z
DTSTART:20180927T183000Z
DTEND:20180927T210000Z
LOCATION:
SUMMARY:Balázs János 30
DESCRIPTION:Balázs János Liszt Ferenc-díjas zongoraművész zongoraestje
 . Szünetben a koncertközönség vendégünk 1 pohár pezsgőre. Zongoraes
 tBősze Ádám | Moderátor Sergey Rachmaninov Frédéric Chopin Liszt Fer
 enc Dubrovay László művei Cziffra György átiratai Minden jegy elkelt\n
 https://momkult.hu/events/balazs-janos-30/
URL:https://momkult.hu/events/balazs-janos-30/
END:VEVENT
END:VCALENDAR