BEGIN:VCALENDAR
VERSION:2.0
PRODID:-//eventon.com NONSGML v1.0//EN
CALSCALE:GREGORIAN
METHOD:PUBLISH
BEGIN:VEVENT
UID:69e7bc562c72f
DTSTAMP:20260421T180510Z
DTSTART:20211227T180000Z
DTEND:20211227T200000Z
LOCATION:
SUMMARY:IdÅ‘utazÃ¡s - Dalok Ã©s sztorik az Oscar-dÃ­j tÃ¶rtÃ©netÃ©bÅ‘l
DESCRIPTION:FelhÃ­vjuk lÃ¡togatÃ³ink szÃ­ves figyelmÃ©t\,  hogy a MOMkult Ã
 ©pÃ¼letÃ©ben a maszkviselÃ©s kÃ¶telezÅ‘! Az elÅ‘adÃ¡s Ãºj idÅ‘pontban\,  20
 21. 12. 27-Ã©n kerÃ¼l megrendezÃ©sre. (eredeti idÅ‘pont: 2021. 05. 06.\, Â 
  Â Ãºj idÅ‘pont: 2021.12.27.) ZSIMÃœ kÃ¶zlemÃ©nye: Tisztelt KÃ¶zÃ¶nsÃ©gÃ¼nk
 \,  BarÃ¡taink! Az IdÅ‘utazÃ¡s &#8211; Dalok Ã©s sztorik az Oscar-dÃ­j tÃ¶r
 tÃ©netÃ©bÅ‘l | NÃ¡ray Erika estje cÃ­mÅ± koncertÃ¼nk Ãºj idÅ‘pontja[..]\nht
 tps://momkult.hu/events/idoutazas-dalok-es-sztorik-az-oscar-dij-tortenetebo
 l-naray-erika-estje-2/
URL:https://momkult.hu/events/idoutazas-dalok-es-sztorik-az-oscar-dij-tortenetebol-naray-erika-estje-2/
END:VEVENT
END:VCALENDAR