BEGIN:VCALENDAR
VERSION:2.0
PRODID:-//eventon.com NONSGML v1.0//EN
CALSCALE:GREGORIAN
METHOD:PUBLISH
BEGIN:VEVENT
UID:69e8417b3c427
DTSTAMP:20260422T033315Z
DTSTART:20210610T170000Z
DTEND:20210610T203000Z
LOCATION:
SUMMARY:BÁREST
DESCRIPTION:Az előadás új időpontban\,  2021. 06. 10-én kerül megrend
 ezésre. (eredeti időpont: 2021. 04. 25.\,   eredeti pótidőpont;  új 
 időpont: 2021.06.10.) Tisztelt Közönségünk! A 2021. június 1. kedd 19
 :00 órára meghirdetett Bárest című kulturális esemény új időpontba
 n kerül megrendezésre. Az Önök biztonsága érdekében az esemény korl
 átozott nézőszám mellett látogatható Az esemény új[..]\nhttps://mom
 kult.hu/events/barest-2/
URL:https://momkult.hu/events/barest-2/
END:VEVENT
END:VCALENDAR