BEGIN:VCALENDAR
VERSION:2.0
PRODID:-//eventon.com NONSGML v1.0//EN
CALSCALE:GREGORIAN
METHOD:PUBLISH
BEGIN:VEVENT
UID:69e82f98cc043
DTSTAMP:20260422T021656Z
DTSTART:20210728
DTEND:20210729
LOCATION:
SUMMARY:CZIFFRA100 Emlékév
DESCRIPTION:A Cziffra Fesztivál és a Cziffra100 Emlékév során a Hegyvi
 dék kulturális intézményeiben közreműködők albuma A kiadvány IDE K
 ATTINTVA megnyílik. Budapest Főváros XII. kerület Hegyvidéki Önkormá
 nyzata a Cziffra György Művészeti Fesztivál indulásakor a kezdeményez
 és mellé állt. A kezdetekkor és azóta is folyamatosan támogatja a ker
 ület a Fesztivált mind a kulturális helyszín\, [..]\nhttps://momkult.hu
 /events/cziffra100-emlekev/
URL:https://momkult.hu/events/cziffra100-emlekev/
END:VEVENT
END:VCALENDAR