BEGIN:VCALENDAR
VERSION:2.0
PRODID:-//eventon.com NONSGML v1.0//EN
CALSCALE:GREGORIAN
METHOD:PUBLISH
BEGIN:VEVENT
UID:69ebf8e1bffdd
DTSTAMP:20260424T231233Z
DTSTART:20180925T180000Z
DTEND:20180925T190000Z
LOCATION:
SUMMARY:LyukasÃ³ra klub | InteraktÃ­v irodalmi est
DESCRIPTION:Mi az a LyukasÃ³ra? KÃ¶ltÅ‘kbÅ‘l\,  szÃ­nÃ©szekbÅ‘l\,  irodalmÃ
 ¡rokbÃ³l Ã¡llÃ³ Ã¶sszeszokott barÃ¡ti tÃ¡rsasÃ¡g tagjai kalauzoljÃ¡k egymÃ¡
 st Ã©s a nÃ©zÅ‘ket a kÃ¶ltÃ©szet izgalmas vilÃ¡gÃ¡ba.Â LazÃ­tunk\,  sztoriz
 unk\,  jÃ¡tszunk Ã©s szabadon vÃ¡lasztott versekkel prÃ³bÃ¡ljuk meg beugrat
 ni egymÃ¡st. VidÃ¡m Ã©s bÃ¡natos anekdotÃ¡k\,  no meg remek versek elevened
 nek meg a pÃ³diumon. JÃ¡tszÃ³tÃ¡rs a kÃ¶zÃ¶nsÃ©g is\,  hiszen itt\,  aki[..
 ]\nhttps://momkult.hu/events/lyukasora-klub-interaktiv-irodalmi-est/
URL:https://momkult.hu/events/lyukasora-klub-interaktiv-irodalmi-est/
END:VEVENT
END:VCALENDAR