BEGIN:VCALENDAR
VERSION:2.0
PRODID:-//eventon.com NONSGML v1.0//EN
CALSCALE:GREGORIAN
METHOD:PUBLISH
BEGIN:VEVENT
UID:69e852892a51d
DTSTAMP:20260422T044601Z
DTSTART:20210331
DTEND:20210401
LOCATION:
SUMMARY:Georg Friedrich HÃ¤ndel: MessiÃ¡s â€“ Ars Nova Sacra KÃ³rus
DESCRIPTION:A keresztÃ©ny egyhÃ¡zak tanÃ­tÃ¡sa szerint hÃºsvÃ©t JÃ©zus Kris
 ztus halÃ¡lÃ¡nak Ã©s feltÃ¡madÃ¡sÃ¡nak emlÃ©kÃ¼nnepe\,  a legnagyobb keresz
 tÃ©ny Ã¼nnep. JÃ©zus mÃ¡rtÃ­rhalÃ¡lÃ¡val magÃ¡ra vÃ¡llalta az emberisÃ©g bÅ
 ±neit\,  s ezzel megvÃ¡ltotta Ã©s Ã¼dvÃ¶ssÃ©gre\,  Ã¶rÃ¶k Ã©letre vezette Å
 ‘ket.Â  A MOMkult a keresztÃ©ny egyhÃ¡zak legnagyobb Ã¼nnepÃ©nek tiszteletÃ
 ©re rendezett mÅ±sorait a NagyhÃ©t sorÃ¡n tesszÃ¼k kÃ¶zzÃ© online. A testet
 [..]\nhttps://momkult.hu/events/georg-friedrich-handel-messias-ars-nova-sac
 ra-korus/
URL:https://momkult.hu/events/georg-friedrich-handel-messias-ars-nova-sacra-korus/
END:VEVENT
END:VCALENDAR