BEGIN:VCALENDAR
VERSION:2.0
PRODID:-//eventon.com NONSGML v1.0//EN
CALSCALE:GREGORIAN
METHOD:PUBLISH
BEGIN:VEVENT
UID:69e8528440761
DTSTAMP:20260422T044556Z
DTSTART:20210405T150000Z
DTEND:20210405T163000Z
LOCATION:
SUMMARY:VAN A BÁRÁNYNAK SZÍVE? | Klitsie-Szabad Boglárka
DESCRIPTION:VAN A BÁRÁNYNAK SZÍVE? címen legendamesék és húsvéti t
 rténetek hangzanak el Klitsie-Szabad Boglárka mesemondó előadásában.
  Aki végighallgatja Csipkés Vilmos meséjét a mesélő saját és Varga 
 Norbert közös gyűjtéséből\,  valamint Lammel Annamária és Nagy Ilon
 a Parasztbiblia c. könyvéből válogatott részleteket\,  választ kaphat
  többek között az alábbi kérdésekre is: &#8211; Melyik madár[..]\nht
 tps://momkult.hu/events/van-a-baranynak-szive-klitsie-szabad-boglarka/
URL:https://momkult.hu/events/van-a-baranynak-szive-klitsie-szabad-boglarka/
END:VEVENT
END:VCALENDAR