BEGIN:VCALENDAR
VERSION:2.0
PRODID:-//eventon.com NONSGML v1.0//EN
CALSCALE:GREGORIAN
METHOD:PUBLISH
BEGIN:VEVENT
UID:69e8654882868
DTSTAMP:20260422T060600Z
DTSTART:20210329
DTEND:20210330
LOCATION:
SUMMARY:HIT. HÚSVÉT. KORTÁRSKÉRDÉSEK
DESCRIPTION:Dr. Csókay András idegsebész\,  Simon András grafikusművé
 sz és Vágvölgyi Gergely főszerkesztő (vasárnap.hu) gondolatébresztő
  beszélgetése a hit aktualitásáról és erejéről. A MOMkult a kereszt
 ény egyházak legnagyobb ünnepének tiszteletére rendezett műsorai a Na
 gyhét során online lesznek elérhetőek. 2021. március 29-én 17 órakor
  tartott premierrel vetítjük HIT. HÚSVÉT. KORTÁRS KÉRDÉSEK címmel D
 r. Csókay[..]\nhttps://momkult.hu/events/hit-husvet-kortars-kerdesek/
URL:https://momkult.hu/events/hit-husvet-kortars-kerdesek/
END:VEVENT
END:VCALENDAR