BEGIN:VCALENDAR
VERSION:2.0
PRODID:-//eventon.com NONSGML v1.0//EN
CALSCALE:GREGORIAN
METHOD:PUBLISH
BEGIN:VEVENT
UID:69e854b1f3e87
DTSTAMP:20260422T045513Z
DTSTART:20210428T170000Z
DTEND:20210428T183000Z
LOCATION:
SUMMARY:Dr. Csókay András és Mező Misi ONLINE beszélgetése | A hit mint inspiráció\,  a hit ami átvezet az életen...
DESCRIPTION:Dr. Csókay András és Mező Misi ONLINE beszélgetése. Két 
 különböző hivatás\,  két különböző személyiség. Valamiben azonb
 an hasonlítanak. Online\nhttps://momkult.hu/events/r-csokay-andras-es-mezo
 -misi-online-beszelgetese-a-hit-mint-inspiracio-a-hit-ami-atvezet-az-eleten
 /
URL:https://momkult.hu/events/r-csokay-andras-es-mezo-misi-online-beszelgetese-a-hit-mint-inspiracio-a-hit-ami-atvezet-az-eleten/
END:VEVENT
END:VCALENDAR