BEGIN:VCALENDAR
VERSION:2.0
PRODID:-//eventon.com NONSGML v1.0//EN
CALSCALE:GREGORIAN
METHOD:PUBLISH
BEGIN:VEVENT
UID:69e83045886be
DTSTAMP:20260422T021949Z
DTSTART:20210908T170000Z
DTEND:20210908T183000Z
LOCATION:
SUMMARY:Dirty Swing
DESCRIPTION:Az előadás új időpontban\,  2021. 05. 02-án kerül megrend
 ezésre. (eredeti időpont: 2020. 05. 02.\,  pótelőadás: 2021.09.08.) &#
 8212;&#8211; Száz évvel ezelőtt\,  az 1920-as években indult hódító 
 útjára a jazz legpopulárisabb és stílusirányzata\,  a SWING. Az ameri
 kai kontinens után Európában is azonnal rajongókra és értő fülekre 
 talált\,  így lett a kor legdinamikusabb[..]\nhttps://momkult.hu/events/d
 irty-swing-2/
URL:https://momkult.hu/events/dirty-swing-2/
END:VEVENT
END:VCALENDAR