BEGIN:VCALENDAR
VERSION:2.0
PRODID:-//eventon.com NONSGML v1.0//EN
CALSCALE:GREGORIAN
METHOD:PUBLISH
BEGIN:VEVENT
UID:69e82f949eb03
DTSTAMP:20260422T021652Z
DTSTART:20210829T083000Z
DTEND:20210829T110000Z
LOCATION:
SUMMARY:Az illúzió mesterei - 2021
DESCRIPTION:Az előadás a MOM Kulturális Központ előre meghirdetett\,  
 belépőjegyes\,  ültetett\,  kulturális/művészeti eseménye\,  védet
 tségi igazolvány nélkül is látogatható. A maszk használata nem köte
 lező\,  de továbbra is javasolt. Együttműködésüket köszönjük! &#8
 212;&#8212;&#8212;&#8212;&#8212; Az előadás új időpontban\,  2021. 08. 
 29-én kerül megrendezésre. (eredeti időpont: 2021. 03. 14.  új időpo
 nt: 2021.08.29. &#8212;&#8212;&#8212;&#8212;&#8212;&#8212;&#8212;&#8212;&#8
 212;&#8212;&#8212;&#8212;&#8212;&#8212;&#8212;&#8212;&#8212;&#8212;&#8212;&
 #8212;&#8212;&#8212;&#8212;&#8212;&#8212;&#8212;&#8212;&#8212;&#8212;&#8212
 ;&#8212;&#8212;&#8212;&#8212;&#8212;&#8212;&#8212;&#8212;&#8212;&#8212;&#82
 12;&#8212;&#8212;&#8212;&#8211; New York\,  Peking\,  Dubai\, [..]\nhttps:/
 /momkult.hu/events/az-illuzio-mesterei-2021-14/
URL:https://momkult.hu/events/az-illuzio-mesterei-2021-14/
END:VEVENT
END:VCALENDAR