BEGIN:VCALENDAR
VERSION:2.0
PRODID:-//eventon.com NONSGML v1.0//EN
CALSCALE:GREGORIAN
METHOD:PUBLISH
BEGIN:VEVENT
UID:69e82f98cc043
DTSTAMP:20260422T021656Z
DTSTART:20210828T130000Z
DTEND:20210828T153000Z
LOCATION:
SUMMARY:Az illúzió mesterei - 2021
DESCRIPTION:Az előadás a MOM Kulturális Központ előre meghirdetett\,  
 belépőjegyes\,  ültetett\,  kulturális/művészeti eseménye\,  védet
 tségi igazolvány nélkül is látogatható. A maszk használata nem köte
 lező\,  de továbbra is javasolt. Együttműködésüket köszönjük! &#8
 212;&#8212;&#8212;&#8212;&#8212; Az előadás új időpontban\,  2021. 03. 
 13-án kerül megrendezésre. (eredeti időpont: 2021. 03. 13.\,    új i
 dőpont: 2021.08.28.) New York\,  Peking\,  Dubai\,  Las[..]\nhttps://momku
 lt.hu/events/az-illuzio-mesterei-2021-12/
URL:https://momkult.hu/events/az-illuzio-mesterei-2021-12/
END:VEVENT
END:VCALENDAR