BEGIN:VCALENDAR
VERSION:2.0
PRODID:-//eventon.com NONSGML v1.0//EN
CALSCALE:GREGORIAN
METHOD:PUBLISH
BEGIN:VEVENT
UID:69e82fe60a554
DTSTAMP:20260422T021814Z
DTSTART:20210812T183000Z
DTEND:20210812T200000Z
LOCATION:
SUMMARY:Kiss Ádám és Kőhalmi Zoltán
DESCRIPTION:Tisztelt Látogatóink! Az előadás a MOM Kulturális Központ
  előre meghirdetett\,  belépőjegyes\,  ültetett\,  kulturális/művész
 eti eseménye\,  így védettségi igazolvány nélkül is látogatható. A
  maszk használata nem kötelező\,  de továbbra is javasolt. Együttműk
 désüket köszönjük! &#8212;&#8212;&#8212;&#8212;&#8212;&#8212;&#8211; 
 Kiss Ádám A Dumaszínház egyik legfiatalabb tagja\,  aki már akkoriban 
 stand-upolt\,  amikor még nem is sejtette\,  hogy ez[..]\nhttps://momkult.
 hu/events/kiss-adam-es-kohalmi-zoltan/
URL:https://momkult.hu/events/kiss-adam-es-kohalmi-zoltan/
END:VEVENT
END:VCALENDAR