BEGIN:VCALENDAR
VERSION:2.0
PRODID:-//eventon.com NONSGML v1.0//EN
CALSCALE:GREGORIAN
METHOD:PUBLISH
BEGIN:VEVENT
UID:69ebf7f454f1d
DTSTAMP:20260424T230836Z
DTSTART:20180922T180000Z
DTEND:20180922T203000Z
LOCATION:
SUMMARY:Csáki András | Anima Musicae
DESCRIPTION:A Junior Prima díjas Anima Musicae Kamarazenekar Csáki Andrá
 s gitárművésszel lép fel a MOMkult színpadán. &nbsp; Ars Sacra Feszti
 válLuigi Boccherini | Éjjeli őrjárat Madridban Isaac Albeniz | Spanyol 
 szvit Mario Castelnuovo-Tedesco | Gitárverseny Anton Arensky | Kamaraszimf
 ónia\nhttps://momkult.hu/events/az-anima-musicae-kamarazenekar-koncertje/
URL:https://momkult.hu/events/az-anima-musicae-kamarazenekar-koncertje/
END:VEVENT
END:VCALENDAR