BEGIN:VCALENDAR
VERSION:2.0
PRODID:-//eventon.com NONSGML v1.0//EN
CALSCALE:GREGORIAN
METHOD:PUBLISH
BEGIN:VEVENT
UID:69e82ff0c6378
DTSTAMP:20260422T021824Z
DTSTART:20210809T183000Z
DTEND:20210809T200000Z
LOCATION:
SUMMARY:Mesteremberek | Aranyosi PÃ©ter Ã¶nÃ¡llÃ³ estje
DESCRIPTION:Tisztelt LÃ¡togatÃ³ink! Az elÅ‘adÃ¡s a MOM KulturÃ¡lis KÃ¶zpont
  elÅ‘re meghirdetett\,  belÃ©pÅ‘jegyes\,  Ã¼ltetett\,  kulturÃ¡lis/mÅ±vÃ©sz
 eti esemÃ©nye\,  Ã­gy vÃ©dettsÃ©gi igazolvÃ¡ny nÃ©lkÃ¼l is lÃ¡togathatÃ³. A
  maszk hasznÃ¡lata nem kÃ¶telezÅ‘\,  de tovÃ¡bbra is javasolt. EgyÃ¼ttmÅ±kÃ
 ¶dÃ©sÃ¼ket kÃ¶szÃ¶njÃ¼k! &#8212;&#8212;&#8212;&#8212;&#8212;&#8212;&#8211; 
 Aranyosi PÃ©ter Ãºj Ã¶nÃ¡llÃ³ esttel tÃ©r vissza a pandÃ©mia utÃ¡n\,  Meste
 remberek cÃ­mmel. A mesterembereket tÃ¡gabb Ã©rtelmezÃ©sbe helyezve beszÃ©l
 [..]\nhttps://momkult.hu/events/mesteremberek-aranyosi-peter-onallo-estje/
URL:https://momkult.hu/events/mesteremberek-aranyosi-peter-onallo-estje/
END:VEVENT
END:VCALENDAR