BEGIN:VCALENDAR
VERSION:2.0
PRODID:-//eventon.com NONSGML v1.0//EN
CALSCALE:GREGORIAN
METHOD:PUBLISH
BEGIN:VEVENT
UID:69e841ce46c72
DTSTAMP:20260422T033438Z
DTSTART:20210628T183000Z
DTEND:20210628T200000Z
LOCATION:
SUMMARY:Apróbetűs részek | Kovács András Péter önálló estje
DESCRIPTION:Egy vicces\,  felkavaró és őszinte est férfiakról\,  nőkr
 ől\,  gyerekekről és szülőkről. Dumaszínház estKovács András Pét
 er\nhttps://momkult.hu/events/aprobetus-reszek-kovacs-andras-peter-onallo-e
 stje/
URL:https://momkult.hu/events/aprobetus-reszek-kovacs-andras-peter-onallo-estje/
END:VEVENT
END:VCALENDAR