BEGIN:VCALENDAR
VERSION:2.0
PRODID:-//eventon.com NONSGML v1.0//EN
CALSCALE:GREGORIAN
METHOD:PUBLISH
BEGIN:VEVENT
UID:69e865a587de1
DTSTAMP:20260422T060733Z
DTSTART:20210307T180000Z
DTEND:20210307T192000Z
LOCATION:
SUMMARY:A nő és a hölgy – A siker titka Görög Ibolya ONLINE előadása
DESCRIPTION:Viselkedéskultúra\,  metakommunikáció\,  öltözködés\,  
 online kommunikáció\,  home office. Az előadás az esemény kezdésének
  időpontjától (március 7. 19.00) számított 5 napig visszanézhető ma
 rad! Többször is! &#8222;A stílus annyi\,  mint tudni\,  hogy ki vagy\, 
  hogy mit akarsz mondani\,  és fütyülni minden másra.&#8221; Kim Cattra
 ll Online\nhttps://momkult.hu/events/a-no-es-a-holgy-a-siker-titka-gorog-ib
 olya-online-eloadasa/
URL:https://momkult.hu/events/a-no-es-a-holgy-a-siker-titka-gorog-ibolya-online-eloadasa/
END:VEVENT
END:VCALENDAR