BEGIN:VCALENDAR
VERSION:2.0
PRODID:-//eventon.com NONSGML v1.0//EN
CALSCALE:GREGORIAN
METHOD:PUBLISH
BEGIN:VEVENT
UID:69e8656765873
DTSTAMP:20260422T060631Z
DTSTART:20210306T060000Z
DTEND:20210308T100000Z
LOCATION:
SUMMARY:HORBA! zenekar | Online koncert
DESCRIPTION:Az online koncert március 5-én 19 órától március 7-én. 2
 3 óráig érhető el a facebook-oldalunkon.  A horba egy zenés\,  tánco
 s mulatság a moldvai magyaroknál. A zenekar ezeknek a vigasságoknak a ha
 ngulatát mutatja be a Kárpát-medence és vonzáskörzetének énekelt ha
 gyományán\,  tánczenéjén keresztül. A fő hangzást népi ajaksípos 
 hangszerek adják\,  új utakat[..]\nhttps://momkult.hu/events/horba-zeneka
 r-online-koncert/
URL:https://momkult.hu/events/horba-zenekar-online-koncert/
END:VEVENT
END:VCALENDAR