BEGIN:VCALENDAR
VERSION:2.0
PRODID:-//eventon.com NONSGML v1.0//EN
CALSCALE:GREGORIAN
METHOD:PUBLISH
BEGIN:VEVENT
UID:69e8655350dbe
DTSTAMP:20260422T060611Z
DTSTART:20210311T180000Z
DTEND:20210311T203000Z
LOCATION:
SUMMARY:Az illúzió mesterei - 2021
DESCRIPTION:&nbsp; Az előadás a MOM Kulturális Központ előre meghirdet
 ett\,  belépőjegyes\,  ültetett\,  kulturális/művészeti eseménye\, 
 védettségi igazolvány nélkül is látogatható. A maszk használata ne
 m kötelező\,  de továbbra is javasolt. Együttműködésüket köszönj
 k! &#8212;&#8212;&#8212;&#8212;&#8212; FONTOS INFORMÁCIÓ / VÁLTOZÓ ID
 PONTOK &#8212;&#8212;&#8212;&#8212;&#8212;&#8212;&#8212;&#8212;&#8212;&#82
 12;&#8212;&#8212;&#8212;&#8212;&#8212;&#8212;&#8212;&#8212;&#8212;&#8212;&#
 8212;&#8212;&#8212;&#8212;&#8212;&#8212;&#8212;&#8212;&#8212;&#8212;&#8212;
 &#8212;&#8212;&#8212;&#8212;&#8212;&#8212;&#8212;&#8212;&#8212;&#8212;&#821
 2;&#8212;&#8212;&#8211; New York\,  Peking\,  Dubai\,  Las Vegas\,  Monte C
 arlo és Tokió után újra Budapesten Az illúzió[..]\nhttps://momkult.hu
 /events/az-illuzio-mesterei-2021-8/
URL:https://momkult.hu/events/az-illuzio-mesterei-2021-8/
END:VEVENT
END:VCALENDAR