BEGIN:VCALENDAR
VERSION:2.0
PRODID:-//eventon.com NONSGML v1.0//EN
CALSCALE:GREGORIAN
METHOD:PUBLISH
BEGIN:VEVENT
UID:69ebf5e2daa4a
DTSTAMP:20260424T225946Z
DTSTART:20180922T093000Z
DTEND:20180922T103000Z
LOCATION:
SUMMARY:Kokopelli Jazz Matiné
DESCRIPTION:Interaktív\,  játékos koncert\,  a gyerekekkel közös ének
 lés\,  zenélés\,  és improvizáció; mindez a jazz hangzásvilágából
  merítve. Igényes és tartalmas kikapcsolódás\,  mondanivalójában\,  
 pedagógiailag és zeneileg egyaránt. A gyerekek a koncert alatt folyamato
 s interakciókkal\,  mozgásos feladatokkal\,  ritmusjátékokkal\,  szerep
 játékokkal és különféle kreatív feladatokkal vesznek részt az aktí
 v folyamatban. Az előadás része néhány rövid hangszerbemutató[..]\nh
 ttps://momkult.hu/events/kokopelli-jazz-matine/
URL:https://momkult.hu/events/kokopelli-jazz-matine/
END:VEVENT
END:VCALENDAR