BEGIN:VCALENDAR
VERSION:2.0
PRODID:-//eventon.com NONSGML v1.0//EN
CALSCALE:GREGORIAN
METHOD:PUBLISH
BEGIN:VEVENT
UID:69e86561e7422
DTSTAMP:20260422T060625Z
DTSTART:20210323T183000Z
DTEND:20210323T200000Z
LOCATION:
SUMMARY:Befogad és kitaszít a világ | Mácsai Pál és Huzella Péter Villon-estje
DESCRIPTION:Az előadás új időpontban\,  2021. 12. 08-án kerül megrend
 ezésre. (eredeti időpont: 2021. 03. 23.\,    új időpont: 2021.12.08.)
  ZSIMÜ közleménye: Tisztelt Közönségünk! A 2020. november 9-én beje
 lentett korlátozások értelmében minden idei évre tervezett előadásun
 kat jövő év tavaszára halasztjuk. Folyamatosan dolgozunk\,  hogy minél
  előbb tájékoztathassuk Önöket a konkrét időpontokról\,  helyszíne
 kről! A megváltott[..]\nhttps://momkult.hu/events/befogad-es-kitaszit-a-v
 ilag-macsai-pal-es-huzella-peter-villon-estje-2/
URL:https://momkult.hu/events/befogad-es-kitaszit-a-vilag-macsai-pal-es-huzella-peter-villon-estje-2/
END:VEVENT
END:VCALENDAR