BEGIN:VCALENDAR
VERSION:2.0
PRODID:-//eventon.com NONSGML v1.0//EN
CALSCALE:GREGORIAN
METHOD:PUBLISH
BEGIN:VEVENT
UID:69e8528900edd
DTSTAMP:20260422T044601Z
DTSTART:20210508T170000Z
DTEND:20210508T190000Z
LOCATION:
SUMMARY:NOXTALGIA UNPLUGGED | Péter Szabó Szilvia
DESCRIPTION:Az előadás új időpontban\,  2021. 12. 10-én kerül megrend
 ezésre. (eredeti időpont: 2021. 05. 08.\,    új időpont: 2021.12.10.)
  Kedves Jegyvásárlóink! A május 08-i 19.00- kor kezdődő NOXTALGIA UNP
 LUGGED | Péter Szabó Szilvia koncert a járványhelyzet miatt új időpon
 tban kerül megrendezésre! Az új időpont: 2021. december 10. 19:00\,  a 
 koncert helyszíne változatlan![..]\nhttps://momkult.hu/events/noxtalgia-u
 nplugged-peter-szabo-szilvia-2/
URL:https://momkult.hu/events/noxtalgia-unplugged-peter-szabo-szilvia-2/
END:VEVENT
END:VCALENDAR