BEGIN:VCALENDAR
VERSION:2.0
PRODID:-//eventon.com NONSGML v1.0//EN
CALSCALE:GREGORIAN
METHOD:PUBLISH
BEGIN:VEVENT
UID:69ebf850e6d29
DTSTAMP:20260424T231008Z
DTSTART:20180921T173000Z
DTEND:20180921T190000Z
LOCATION:
SUMMARY:VallomÃ¡sok zÃ¡rt ajtÃ³k mÃ¶gÃ¶tt | CsÃ¡nyi SÃ¡ndor estje
DESCRIPTION:InteraktÃ­v szÃ³rakoztatÃ³ est CsÃ¡nyi SÃ¡ndor szÃ­nmÅ±vÃ©sz kÃ
 ¶zremÅ±kÃ¶dÃ©sÃ©vel. SzÃ³ba kerÃ¼lnek emlÃ©kek\,  tÃ¶rtÃ©netek\,  szemÃ©lye
 s vallomÃ¡sok\,  Ã©s a mÅ±vÃ©szet. SzervezÅ‘: InfÃºziÃ³ ProdukciÃ³ BeszÃ©lg
 etÅ‘s est\nhttps://momkult.hu/events/vallomasok-zart-ajtok-mogott-csanyi-sa
 ndor-estje/
URL:https://momkult.hu/events/vallomasok-zart-ajtok-mogott-csanyi-sandor-estje/
END:VEVENT
END:VCALENDAR