BEGIN:VCALENDAR
VERSION:2.0
PRODID:-//eventon.com NONSGML v1.0//EN
CALSCALE:GREGORIAN
METHOD:PUBLISH
BEGIN:VEVENT
UID:69e867d73c7ce
DTSTAMP:20260422T061655Z
DTSTART:20210320T180000Z
DTEND:20210320T203000Z
LOCATION:
SUMMARY:Akkor és Most 1981/2021 | VÖRÖS ISTVÁN zenekaros koncert Dalok a PROGNÓZISTÓL napjainkig
DESCRIPTION:Az előadás új időpontban\,  2021. 10. 09-én kerül megrend
 ezésre. (eredeti időpont: 2021. 03. 20.\,    új időpont: 2021.10.09.)
  &#8212;&#8212;&#8212;&#8212;&#8212;&#8212;&#8212;&#8212;&#8212;&#8212;&#82
 12;&#8212;&#8212;&#8212;&#8212;&#8212;&#8212;&#8212;&#8212;&#8212;&#8212;&#
 8212;&#8212;&#8212;&#8212;&#8212;&#8212;&#8212;&#8212;&#8212;&#8212;&#8212;
 &#8212;&#8212;&#8212;&#8212;&#8212;&#8212;&#8212;&#8212;&#8212;&#8212;&#821
 2;&#8212;&#8212;&#8212;&#8212;&#8212;&#8212; Vörös Pisti 1981. február 2
 1-én alakította meg a Prognózis zenekart. Ezt megelőzően\,  katonai id
 eje alatt\,  Baján a HadiRock formációban nyúzta a húrokat és szerző
 ként bontogatta szárnyait. Ennek a csapatnak már Cirmos Kormos Gábor[.
 .]\nhttps://momkult.hu/events/akkor-es-most-1981-2021-voros-istvan-zenekaro
 s-koncert-dalok-a-prognozistol-napjainkig/
URL:https://momkult.hu/events/akkor-es-most-1981-2021-voros-istvan-zenekaros-koncert-dalok-a-prognozistol-napjainkig/
END:VEVENT
END:VCALENDAR