BEGIN:VCALENDAR
VERSION:2.0
PRODID:-//eventon.com NONSGML v1.0//EN
CALSCALE:GREGORIAN
METHOD:PUBLISH
BEGIN:VEVENT
UID:69e85469c6e9a
DTSTAMP:20260422T045401Z
DTSTART:20210524T180000Z
DTEND:20210524T200000Z
LOCATION:
SUMMARY:Klezmer Talkshow | Jávori Ferenc Fegya estje
DESCRIPTION:A korábbi időpontra megvásárolt jegyek erre az időpontra i
 s érvényesek! Van az úgy\,  hogy az ember hall valami zenét\,  és bár
  nem tudja miféle\,  mégis magával ragadja. Mint tudjuk\,  a klezmernek 
 varázslatos ereje van. A klezmer zenébe beleszűrődnek az orosz\,  cigá
 ny\,  román\,  magyar akkordok és dallamok. De az est\,  ahogy[..]\nhttps
 ://momkult.hu/events/klezmer-talkshow-javori-ferenc-fegya-estje/
URL:https://momkult.hu/events/klezmer-talkshow-javori-ferenc-fegya-estje/
END:VEVENT
END:VCALENDAR