BEGIN:VCALENDAR
VERSION:2.0
PRODID:-//eventon.com NONSGML v1.0//EN
CALSCALE:GREGORIAN
METHOD:PUBLISH
BEGIN:VEVENT
UID:69e8881d5833c
DTSTAMP:20260422T083437Z
DTSTART:20201113
DTEND:20201114
LOCATION:
SUMMARY:STANDBY
DESCRIPTION:A koronavírus-járvány szülte kortárs reflexiókból szüle
 tett válogatáson több mint negyven alkotó fotó- és képzőművészeti
  reprodukciója tekinthető meg. A biopiac\,  a Gesztenyés kert és a MOMk
 ult melletti játszótér forgalma miatt már az első napon felfigyeltek a
  járókelők a kortárs művészek alkotásaira\,  amelyeket november köz
 epétől egy hónapig tekinthetnek meg. A Standby szabadtéri tárlaton s
 okszínű\, [..]\nhttps://momkult.hu/events/standby/
URL:https://momkult.hu/events/standby/
END:VEVENT
END:VCALENDAR