BEGIN:VCALENDAR
VERSION:2.0
PRODID:-//eventon.com NONSGML v1.0//EN
CALSCALE:GREGORIAN
METHOD:PUBLISH
BEGIN:VEVENT
UID:69e855f7a927a
DTSTAMP:20260422T050039Z
DTSTART:20210516T170000Z
DTEND:20210516T190000Z
LOCATION:
SUMMARY:Budapest BÃ¡r koncert
DESCRIPTION:Az elÅ‘adÃ¡s Ãºj idÅ‘pontban\,  2021. 10. 17-Ã©n kerÃ¼l megrend
 ezÃ©sre. (eredeti idÅ‘pont: 2020. 05. 27.\, Â  eredeti pÃ³telÅ‘adÃ¡s: 2020.
  11.12. Ãºj idÅ‘pont: 2021.10.17.) A MOMkult a ZsidÃ³ MÅ±vÃ©szeti Napok pro
 gramsorozatnaknak terembÃ©rleti konstrukciÃ³ban helyszÃ­nt biztosÃ­t\,  a j
 egyekkel kapcsolatban intÃ©zkedÃ©si joga nincs. Az alÃ¡bbiakban kÃ¶zÃ¶ljÃ¼k
 Â Dr. Vadas Vera\,  ZsiMÃ¼ igazgatÃ³jÃ¡nak kÃ¶zlemÃ©nyÃ©t: Kedves KÃ¶zÃ¶nsÃ
 ©gÃ¼nk\,  BarÃ¡taink\,  Budapest[..]\nhttps://momkult.hu/events/budapest-ba
 r-koncert-3/
URL:https://momkult.hu/events/budapest-bar-koncert-3/
END:VEVENT
END:VCALENDAR