BEGIN:VCALENDAR
VERSION:2.0
PRODID:-//eventon.com NONSGML v1.0//EN
CALSCALE:GREGORIAN
METHOD:PUBLISH
BEGIN:VEVENT
UID:69e88eeceace4
DTSTAMP:20260422T090340Z
DTSTART:20201104
DTEND:20201105
LOCATION:
SUMMARY:A ZONGORISTA ÉS AZ ÚJSÁGÍRÓ
DESCRIPTION:Második alkalommal kerül megrendezésre az MMA Művészetelm
 leti és Módszertani Kutatóintézet és a Cziffra György Fesztivál egy
 üttműködése által az a tudományos műhelytalálkozó\,  amelynek egyi
 k apropója Cziffra György születésének 100. évfordulója. Az első m
 helytalálkozó előadói rámutattak arra\,  hogy a tragikus sorsú zené
 szt néhány legendán kívül alig ismeri a széles közönség. Mivel az[
 ..]\nhttps://momkult.hu/events/a-zongorista-es-az-ujsagiro/
URL:https://momkult.hu/events/a-zongorista-es-az-ujsagiro/
END:VEVENT
END:VCALENDAR