BEGIN:VCALENDAR
VERSION:2.0
PRODID:-//eventon.com NONSGML v1.0//EN
CALSCALE:GREGORIAN
METHOD:PUBLISH
BEGIN:VEVENT
UID:69e841cdabaf6
DTSTAMP:20260422T033437Z
DTSTART:20210601
DTEND:20210602
LOCATION:
SUMMARY:ÉRTED
DESCRIPTION:VIRTUÁLIS KIÁLLÍTÁS Sebestyén Sára fotográfiái szervese
 n illeszkednek a magyar fotóművészet konstruktivista vonulatába. Képei
 t épületrészletek\,  mindennapjaink apró részletei alkotják\,  melyek
 nek mérnöki pontosság és lágy harmónia alkot keretet. Színek\,  form
 ák és fények finom játéka találkozik a geometria merev szabályaival\
 ,  gyakran ellentétpárokból építkezik\,  azonban minden kompozíció v
 alami újat\,  valami váratlant is rejt. Munkája[..]\nhttps://momkult.hu/
 events/ertedczf/
URL:https://momkult.hu/events/ertedczf/
END:VEVENT
END:VCALENDAR