BEGIN:VCALENDAR
VERSION:2.0
PRODID:-//eventon.com NONSGML v1.0//EN
CALSCALE:GREGORIAN
METHOD:PUBLISH
BEGIN:VEVENT
UID:69e865af368fd
DTSTAMP:20260422T060743Z
DTSTART:20210221T093000Z
DTEND:20210221T103000Z
LOCATION:
SUMMARY:Hangszerbemutató koncert gyerekeknek
DESCRIPTION:Az előadást élőben közvetítjük! Szeretettel várjuk az e
 semény időpontjában a képernyő előtt!  &quot;Amikor &eacute;n m&eacu
 te;g kissr&aacute;c voltam&quot; Hangszerbemutat&oacute; koncert gyerekekne
 k from Papageno on Vimeo. &nbsp; &#8212;&#8212;&#8212;&#8212;&#8212;&#8212;
 &#8212;&#8212;&#8212;&#8212;&#8212;&#8212;&#8212;&#8212;&#8212;&#8212;&#821
 2;&#8212;&#8212;&#8212;&#8212;&#8212;&#8212;&#8212;&#8212;&#8212;&#8212;&#8
 212;&#8212;&#8212;&#8212;&#8212;&#8212;&#8212;&#8212;&#8212;&#8212;&#8212;&
 #8212;&#8212;&#8212;&#8212;&#8212;&#8212;&#8212;&#8212;&#8212;&#8211; “Am
 ikor én még kissrác voltam…” – avagy gyermekszerzők\,  gyermekzen
 ék A több évtizedes pedagógiai múlttal rendelkező Liszt-díjas zongor
 aművész\,  Eckhardt Gábor zeneszerzők gyerekkori\,  vagy gyerekeknek í
 rott[..]\nhttps://momkult.hu/events/hangszerbemutato-koncert-gyerekeknek-2/
URL:https://momkult.hu/events/hangszerbemutato-koncert-gyerekeknek-2/
END:VEVENT
END:VCALENDAR