BEGIN:VCALENDAR
VERSION:2.0
PRODID:-//eventon.com NONSGML v1.0//EN
CALSCALE:GREGORIAN
METHOD:PUBLISH
BEGIN:VEVENT
UID:69e86519adac6
DTSTAMP:20260422T060513Z
DTSTART:20210217T193000Z
DTEND:20210217T213000Z
LOCATION:
SUMMARY:HIT–MŰVÉSZET
DESCRIPTION:Az előadást élőben közvetítjük! Szeretettel várjuk az e
 semény időpontjában a képernyő előtt! A koncert közvetítés elérhe
 tőségéről hamarosan bővebb információt talál honlapunkon. Az élő 
 koncertre online vásárolt jegyek a jegy.hu-n válthatók vissza. MOMkult
 ban személyes ügyfélfogadásra a jelenleg érvényes 484/2020. (XI.10.) 
 Korm.rendelet miatt nincs lehetőség\,  az ott vásárolt jegyek visszavá
 ltása a program@momkult.hu email címen vagy[..]\nhttps://momkult.hu/eve
 nts/hit-muveszet/
URL:https://momkult.hu/events/hit-muveszet/
END:VEVENT
END:VCALENDAR