BEGIN:VCALENDAR
VERSION:2.0
PRODID:-//eventon.com NONSGML v1.0//EN
CALSCALE:GREGORIAN
METHOD:PUBLISH
BEGIN:VEVENT
UID:69e867d247d95
DTSTAMP:20260422T061650Z
DTSTART:20210215T193000Z
DTEND:20210215T213000Z
LOCATION:
SUMMARY:FÖLSZÁLLOTT A PÁVA VARIÁCIÓI A KÁRPÁT-MEDENCÉBŐL
DESCRIPTION:Az előadást élőben közvetítjük! Szeretettel várjuk az e
 semény időpontjában a képernyő előtt! Az élő koncertre online vás
 rolt jegyek a jegy.hu-n válthatók vissza. MOMkultban személyes ügyfé
 lfogadásra a jelenleg érvényes 484/2020. (XI.10.) Korm.rendelet miatt ni
 ncs lehetőség\,  az ott vásárolt jegyek visszaváltása a program@momk
 ult.hu email címen vagy a 06-70/908-41-05 telefonszámon lehetséges. Né
 pzene és műzene találkozása –[..]\nhttps://momkult.hu/events/folszall
 ott-a-pava-variacioi-a-karpat-medencebol/
URL:https://momkult.hu/events/folszallott-a-pava-variacioi-a-karpat-medencebol/
END:VEVENT
END:VCALENDAR