BEGIN:VCALENDAR
VERSION:2.0
PRODID:-//eventon.com NONSGML v1.0//EN
CALSCALE:GREGORIAN
METHOD:PUBLISH
BEGIN:VEVENT
UID:69e863e102904
DTSTAMP:20260422T060001Z
DTSTART:20210209
DTEND:20210210
LOCATION:
SUMMARY:Éteri színek
DESCRIPTION:A virtuális kiállítás itt tekinthető meg. „Az önkifejez
 éssel járó szabadságérzet és a színek hatása önmagamra legerősebb
  mozgatórugója annak\,  ami miatt alkotok” – vallja a fiatal művész
 nő.  Ezen kiállítási anyag is a színek elevenségére és éteri megj
 elenésére\,  az élénk és sötétebb színárnyalatok találkozására\
 ,  egybefolyására\,  illetve a feszültség keresésére fókuszál legin
 kább. Nem[..]\nhttps://momkult.hu/events/eteri-szinek/
URL:https://momkult.hu/events/eteri-szinek/
END:VEVENT
END:VCALENDAR