BEGIN:VCALENDAR
VERSION:2.0
PRODID:-//eventon.com NONSGML v1.0//EN
CALSCALE:GREGORIAN
METHOD:PUBLISH
BEGIN:VEVENT
UID:69ebf5d939e7e
DTSTAMP:20260424T225937Z
DTSTART:20180919T170000Z
DTEND:20180919T180000Z
LOCATION:
SUMMARY:Hitel-est
DESCRIPTION:\nhttps://momkult.hu/events/hitel-est/
URL:https://momkult.hu/events/hitel-est/
END:VEVENT
END:VCALENDAR