BEGIN:VCALENDAR
VERSION:2.0
PRODID:-//eventon.com NONSGML v1.0//EN
CALSCALE:GREGORIAN
METHOD:PUBLISH
BEGIN:VEVENT
UID:69e89154c9227
DTSTAMP:20260422T091356Z
DTSTART:20201107T150000Z
DTEND:20201107T170000Z
LOCATION:
SUMMARY:IringÃ³ TÃ¡ncStÃºdiÃ³ TÃ¡ncGÃ¡la
DESCRIPTION:Tisztelt VendÃ©geink\,  A Mom KulturÃ¡lis KÃ¶zpontban 2020 nove
 mber 07-re meghirdetett IringÃ³ TÃ¡ncstÃºdiÃ³ TÃ¡ncgÃ¡lÃ¡ja a jÃ¡rvÃ¡nyÃ¼gy
 i helyzet miatt egy kÃ©sÅ‘bbi idÅ‘pontban kerÃ¼l megrendezÃ©sre. Az Ãºj idÅ
 ‘pontra Ã©rvÃ©nyesek a mÃ¡r megvÃ¡ltott jegyek\,  a pÃ³telÅ‘adÃ¡s dÃ¡tumÃ¡r
 Ã³l a szervezÅ‘k hamarosan mindenkit Ã©rtesÃ­tenek. Jegyekkel kapcsolatos m
 inden tovÃ¡bbi informÃ¡ciÃ³t aÂ ticketportal@ticketportal.hu email cÃ­men t
 udnak megadni. A nÃ©zÅ‘ink[..]\nhttps://momkult.hu/events/iringo-tancstudio
 -tancgala/
URL:https://momkult.hu/events/iringo-tancstudio-tancgala/
END:VEVENT
END:VCALENDAR