BEGIN:VCALENDAR
VERSION:2.0
PRODID:-//eventon.com NONSGML v1.0//EN
CALSCALE:GREGORIAN
METHOD:PUBLISH
BEGIN:VEVENT
UID:69e878e282aa1
DTSTAMP:20260422T072938Z
DTSTART:20201218T190000Z
DTEND:20201218T203000Z
LOCATION:
SUMMARY:TerminÃ¡l - hatÃ¡rtalan tÃ¡ncok. A vilÃ¡g tÃ¡ncai egy elÅ‘adÃ¡sban | Varidance tÃ¡ncelÅ‘adÃ¡s
DESCRIPTION:Egy szÃ©pen megtervezett utazÃ¡st egyik pillanatrÃ³l a mÃ¡sikra
  felborÃ­thatja egy nem vÃ¡rt esemÃ©ny â€“ sztrÃ¡jk\,  havazÃ¡s vagy vulkÃ¡
 nkitÃ¶rÃ©s &#8211; hosszabb idÅ‘re\,  fÃ¶ldÃ¶n marasztalva a repÃ¼lÅ‘gÃ©pek
 et\,  kÃ©nyelmetlen vÃ¡rÃ³csarnokokban Ã¶sszezÃ¡rva az utazÃ³kat. Az idÅ‘ m
 ÃºlÃ¡sÃ¡val egyÃ¼tt nÃ¶vekvÅ‘ unalom\,  bosszÃºsÃ¡g helyett akÃ¡r jÃ³l is Ã
 ©rezhetnÃ© magÃ¡t a hasonlÃ³ sorsra jutott nemzetkÃ¶zi tÃ¡rsasÃ¡g. Ez[..]\n
 https://momkult.hu/events/terminal-hatartalan-tancok-a-vilag-tancai-egy-elo
 adasban-varidance-tanceloadas/
URL:https://momkult.hu/events/terminal-hatartalan-tancok-a-vilag-tancai-egy-eloadasban-varidance-tanceloadas/
END:VEVENT
END:VCALENDAR