BEGIN:VCALENDAR
VERSION:2.0
PRODID:-//eventon.com NONSGML v1.0//EN
CALSCALE:GREGORIAN
METHOD:PUBLISH
BEGIN:VEVENT
UID:69e8899b7a125
DTSTAMP:20260422T084059Z
DTSTART:20201115T190000Z
DTEND:20201115T210000Z
LOCATION:
SUMMARY:Sue Fabisch: Anyatigrisek
DESCRIPTION:Tisztelt LÃ¡togatÃ³ink! A 2020. november 9-Ã©n bejelentett korl
 Ã¡tozÃ¡sok miatt az Anyatigrisek c. elÅ‘adÃ¡sok elmaradnak. A jegyek vissza
 vÃ¡ltÃ¡sÃ¡rÃ³l az elÅ‘adÃ¡s producere\,  a Liliom ProdukciÃ³ MÅ±vÃ©szeti Kf
 t. megbÃ­zÃ¡sÃ¡bÃ³l a MOM KulturÃ¡lis KÃ¶zpont Nonprofit Kft. kÃ¶zvetÃ­tÅ‘k
 Ã©nt intÃ©zkedik. Amennyiben Ã–n online vÃ¡sÃ¡rolta a jegyeket\,  Ãºgy tovÃ
 ¡bbi teendÅ‘je nincs\,  az Interticket Kft. visszautalja a jegyek[..]\nhttp
 s://momkult.hu/events/sue-fabisch-anyatigrisek/
URL:https://momkult.hu/events/sue-fabisch-anyatigrisek/
END:VEVENT
END:VCALENDAR