BEGIN:VCALENDAR
VERSION:2.0
PRODID:-//eventon.com NONSGML v1.0//EN
CALSCALE:GREGORIAN
METHOD:PUBLISH
BEGIN:VEVENT
UID:69e85283b052b
DTSTAMP:20260422T044555Z
DTSTART:20210409T170000Z
DTEND:20210409T193000Z
LOCATION:
SUMMARY:Somnakaj
DESCRIPTION:A Somnakaj az első roma sorsjáték. Gypsy musical: színház 
 és koncert egyvelege\,  romák és nem romák előadásában. A történet
 ben egy fiatal roma lány\,  Somnakaj meséli el saját történetét\,  eg
 y kalandos utazást.  Élőzene\,  tánc\,  tradicionális képzőművész
 et és iparművészet együttesen adnak hiteles képet a roma világról. A
 z előadásban megszólaló dalok végigjárják a[..]\nhttps://momkult.hu/
 events/somnakaj-3/
URL:https://momkult.hu/events/somnakaj-3/
END:VEVENT
END:VCALENDAR