BEGIN:VCALENDAR
VERSION:2.0
PRODID:-//eventon.com NONSGML v1.0//EN
CALSCALE:GREGORIAN
METHOD:PUBLISH
BEGIN:VEVENT
UID:69e852b715fa8
DTSTAMP:20260422T044647Z
DTSTART:20210519T173000Z
DTEND:20210519T184500Z
LOCATION:
SUMMARY:Urban Verbunk I RÃ³zsa Story
DESCRIPTION:Tisztelt Ã‰rdeklÅ‘dÅ‘k! A 2020. oktÃ³ber 8-rÃ¡ meghirdetett\,  
 kÃ©sÅ‘bb a pandÃ©miÃ¡s helyzet miatt Â Ã¡tszervezett Urban Verbunk formÃ¡ci
 Ã³ RÃ³zsa Story c. elÅ‘adÃ¡s az aktuÃ¡lis jogszabÃ¡lyok Ã©rtelmÃ©ben a mÃ³d
 osÃ­tott idÅ‘pontban (2021. mÃ¡jus 19.) sem tud megvalÃ³sulni. Az elÅ‘adÃ¡s
 ra vÃ¡sÃ¡rolt belÃ©pÅ‘jegyek Ã¡rÃ¡t visszatÃ©rÃ­tjÃ¼k. Amennyiben Ã–n onlin
 e vÃ¡sÃ¡rolta a jegyÃ©t\,  tovÃ¡bbi teendÅ‘je nincs\,  a jegyÃ¡rvisszatÃ©rÃ
 ­tÃ©s[..]\nhttps://momkult.hu/events/urban-verbunk-i-rozsa-story/
URL:https://momkult.hu/events/urban-verbunk-i-rozsa-story/
END:VEVENT
END:VCALENDAR