BEGIN:VCALENDAR
VERSION:2.0
PRODID:-//eventon.com NONSGML v1.0//EN
CALSCALE:GREGORIAN
METHOD:PUBLISH
BEGIN:VEVENT
UID:69e876854a49c
DTSTAMP:20260422T071933Z
DTSTART:20201230T200000Z
DTEND:20201230T213000Z
LOCATION:
SUMMARY:Hot Jazz Band | ElÅ‘szilveszteri koncert
DESCRIPTION:A fennÃ¡llÃ¡sÃ¡nak 35-ik Ã©vfordulÃ³jÃ¡t Ã¼nneplÅ‘ Hot Jazz Ban
 d idÃ©n is megtartja hagyomÃ¡nyos elÅ‘szilveszteri koncertjÃ©t. A jÃ¡rvÃ¡ny
 idÅ‘szakra tekintettel limitÃ¡lt\,  500 fÅ‘s kÃ¶zÃ¶nsÃ©ggel a 650-es befoga
 dÃ³kÃ©pessÃ©gÅ± teremben\,  betartva az elÅ‘Ã­rÃ¡sokat. Az idei mÅ±sor egy 
 kis Ã¼nneplÃ©s is\,  emlÃ©kezve eddigi pÃ¡lyafutÃ¡sunkra\,  bemutatva jÃ¶vÅ
 ‘beli terveinket\,  bÃ­zva a mihamarabbi pandÃ©miamentes folytatÃ¡sban. Her
 mann Hesse szerint: â€žA[..]\nhttps://momkult.hu/events/hot-jazz-band-elosz
 ilveszteri-koncert-3/
URL:https://momkult.hu/events/hot-jazz-band-eloszilveszteri-koncert-3/
END:VEVENT
END:VCALENDAR