BEGIN:VCALENDAR
VERSION:2.0
PRODID:-//eventon.com NONSGML v1.0//EN
CALSCALE:GREGORIAN
METHOD:PUBLISH
BEGIN:VEVENT
UID:69e89bbe0a91b
DTSTAMP:20260422T095822Z
DTSTART:20201004T090000Z
DTEND:20201004T170000Z
LOCATION:
SUMMARY:WAMP | Design Week
DESCRIPTION:Október első hetében a Budapest Design Week programsorozat r
 észeként kerül megrendezésre a WAMP Design Vásár a gyönyörű adotts
 ágokkal rendelkező Hegyvidéki Sirály sétányon\,  a MOMkult előtt. Cs
 atlakozva a Design Hét idei &#8222;Tartsd körforgásban!&#8221; tematiká
 jához olyan tervezőket ismerhetünk meg\,  akiknek fontos a fenntartható
 ság\,  a tervezéskor szem előtt tartják a zero waste filozófiát[..]\n
 https://momkult.hu/events/wamp-design-week/
URL:https://momkult.hu/events/wamp-design-week/
END:VEVENT
END:VCALENDAR