BEGIN:VCALENDAR
VERSION:2.0
PRODID:-//eventon.com NONSGML v1.0//EN
CALSCALE:GREGORIAN
METHOD:PUBLISH
BEGIN:VEVENT
UID:69e89ddc518f5
DTSTAMP:20260422T100724Z
DTSTART:20201009T180000Z
DTEND:20201009T190000Z
LOCATION:
SUMMARY:Tisza Kata: KÃ©kre szeretni
DESCRIPTION:A KÃ©kre szeretni c. feldolgozÃ¡sregÃ©ny bemutatÃ³jÃ¡n a szerzÅ
 ‘vel Babarczy Eszter Ã­rÃ³\,  filozÃ³fus\,  kritikus beszÃ©lget; kÃ¶zremÅ±k
 Ã¶dik: Frenk. KÃ¶tÅ‘dÃ©si zavar â€“ ismerÅ‘s kifejezÃ©s? A pÃ¡rkapcsolati p
 roblÃ©mÃ¡k hÃ¡tterÃ©ben nagyon gyakran a gyermekkorban kialakult sÃ©rÃ¼lt k
 Ã¶tÅ‘dÃ©smintÃ¡zat Ã¡ll. Tisza Kata szÃ¡mos kÃ¶nyvet szentelt mÃ¡r annak\, 
  hogyan kÃ¼zdhetÃ¼nk meg felnÅ‘ttkÃ©nt a gyermekkorban szerzett sÃ©rÃ¼lÃ©se
 inkkel. SzÃ­vszorÃ­tÃ³ Ã©s[..]\nhttps://momkult.hu/events/tisza-kata-kekre-
 szeretni/
URL:https://momkult.hu/events/tisza-kata-kekre-szeretni/
END:VEVENT
END:VCALENDAR