BEGIN:VCALENDAR
VERSION:2.0
PRODID:-//eventon.com NONSGML v1.0//EN
CALSCALE:GREGORIAN
METHOD:PUBLISH
BEGIN:VEVENT
UID:69ebf6360871e
DTSTAMP:20260424T230110Z
DTSTART:20180917T190000Z
DTEND:20180917T210000Z
LOCATION:
SUMMARY:Like a Rolling Stone
DESCRIPTION:A koncert Bob DylantÅ‘l Janis Joplinon\,  Jimie Hendrixen Ã©s a
  Beatlesen keresztÃ¼l Lenny Kravitzig Ã©rinti a rock tÃ¶rtÃ©net fontosabb Ã
 ¡llomÃ¡sait\,  esszenciÃ¡lis vÃ¡logatÃ¡s a Rockâ€™Nâ€™Roll\,  Funky Ã©s a R
 &amp;B Ã©s West Coast stÃ­lus ismert slÃ¡gereibÅ‘l. A zenÃ©t a Bonus Track 
 Band szolgÃ¡ltatja\,  olyan neves mÅ±vÃ©szek kÃ¶zremÅ±kÃ¶dÃ©sÃ©vel\,  mint 
 ZsÃ©da\,  Gryllus Dorka\,  JordÃ¡n[..]\nhttps://momkult.hu/events/like-a-ro
 lling-stone/
URL:https://momkult.hu/events/like-a-rolling-stone/
END:VEVENT
END:VCALENDAR