BEGIN:VCALENDAR
VERSION:2.0
PRODID:-//eventon.com NONSGML v1.0//EN
CALSCALE:GREGORIAN
METHOD:PUBLISH
BEGIN:VEVENT
UID:69e88d69770d3
DTSTAMP:20260422T085713Z
DTSTART:20201028T200000Z
DTEND:20201028T220000Z
LOCATION:
SUMMARY:POKET 2és1/2 születésnap
DESCRIPTION:A POKET ZSEBKÖNYVEK két (-és feledik) születésnapi közös
  ünnepe. Fellépnek többek között: Presser Gábor\,  Beck Zoltán\,  Gr
 ecsó Krisztián\,  Kollár-Klemencz László\,  Szabó Balázs\,  a Carson
  Coma\,  Platon Karataev és Wunderlich József\nhttps://momkult.hu/events/
 poket-2es1-2-szuletesnap/
URL:https://momkult.hu/events/poket-2es1-2-szuletesnap/
END:VEVENT
END:VCALENDAR