BEGIN:VCALENDAR
VERSION:2.0
PRODID:-//eventon.com NONSGML v1.0//EN
CALSCALE:GREGORIAN
METHOD:PUBLISH
BEGIN:VEVENT
UID:69e89c4e35325
DTSTAMP:20260422T100046Z
DTSTART:20201012T180000Z
DTEND:20201012T193000Z
LOCATION:
SUMMARY:Magyar TÃ¡ncRAPszÃ³dia | VariDance tÃ¡ncelÅ‘adÃ¡s
DESCRIPTION:RapszÃ³dia: laza szerkezetÅ±\,  gyakran nemzeti-nÃ©pi motÃ­vumo
 kra Ã©pÃ¼lÅ‘\,  fantÃ¡ziaszerÅ± kompozÃ­ciÃ³. JellemzÅ‘je az Ã©rzelmek\,  g
 ondolatok szenvedÃ©lyes hullÃ¡mzÃ¡sa\,  a kifejezÃ©s szabadsÃ¡ga. A Magyar 
 TÃ¡ncRAPszÃ³dia cÃ­mÅ± elÅ‘adÃ¡s a magyar nÃ©ptÃ¡nctradÃ­ciÃ³bÃ³l kiindulÃ³
  â€“ azt mai zenei irÃ¡nyzatokkal (infusion trio\,  jamm) Ã©s tÃ¡nctechnikÃ
 ¡kkal Ã¶tvÃ¶zve â€“ egyedi tÃ¡ncelÅ‘adÃ¡s. EgymÃ¡st vÃ¡ltÃ³ dinamikus\,  lÃ
 ­rai Ã©s humoros kÃ©pekben tÅ±nik fel[..]\nhttps://momkult.hu/events/magyar
 -tancrapszodia-varidance-tanceloadas-3/
URL:https://momkult.hu/events/magyar-tancrapszodia-varidance-tanceloadas-3/
END:VEVENT
END:VCALENDAR