BEGIN:VCALENDAR
VERSION:2.0
PRODID:-//eventon.com NONSGML v1.0//EN
CALSCALE:GREGORIAN
METHOD:PUBLISH
BEGIN:VEVENT
UID:69ebf5d939e82
DTSTAMP:20260424T225937Z
DTSTART:20180916T140000Z
DTEND:20180916T153000Z
LOCATION:
SUMMARY:Kedvenc mérgeink
DESCRIPTION:Agatha Christie a második világháború alatt a University Co
 llege Hospital gyógyszertárában dolgozott\,  ahol komoly ismeretekre tet
 t szert a mérgekkel kapcsolatban\,  és ezen ismereteit hasznosította is 
 későbbi regényeiben. Kedvenc mérgei közül nem egy a környezetünkben
  lévő gyógynövényekben is megtalálható. A természetben úton-útfé
 len előforduló gyógynövényeket\,  vagy kiskertünkbe ültetett növén
 yinket évezredek óta használjuk\, [..]\nhttps://momkult.hu/events/kedven
 c-mergeink-0916/
URL:https://momkult.hu/events/kedvenc-mergeink-0916/
END:VEVENT
END:VCALENDAR