BEGIN:VCALENDAR
VERSION:2.0
PRODID:-//eventon.com NONSGML v1.0//EN
CALSCALE:GREGORIAN
METHOD:PUBLISH
BEGIN:VEVENT
UID:69e88dcf74cb1
DTSTAMP:20260422T085855Z
DTSTART:20201029T190000Z
DTEND:20201029T211500Z
LOCATION:
SUMMARY:Charlie koncert
DESCRIPTION:Charlie szülinapi koncert. Vendégek: Tóth Vera\,  Nika\,  Sz
 olnoki Peti. Charlie többszörös EMeRTon-díjas művész\,  akinek munká
 sságát többek között Arany Zsiráf-díjjal\,  Liszt Ferenc-díjjal\,  
 illetve 1993-ban a Magyar Köztársasági Érdemrend kiskeresztjével ismer
 ték el. Minden stílusban alkot: ezúttal a jazz\,  a funky és a soul vil
 ágába kalauzolja közönségét. Charlie zenész\,  trombitás: a rock\, 
  a[..]\nhttps://momkult.hu/events/charlie-koncert-8/
URL:https://momkult.hu/events/charlie-koncert-8/
END:VEVENT
END:VCALENDAR